BEGIN:VCALENDAR
VERSION:2.0
PRODID:-//Asteria! - ECPv6.15.16//NONSGML v1.0//EN
CALSCALE:GREGORIAN
METHOD:PUBLISH
X-ORIGINAL-URL:https://asteria-sh.ch
X-WR-CALDESC:Veranstaltungen für Asteria!
REFRESH-INTERVAL;VALUE=DURATION:PT1H
X-Robots-Tag:noindex
X-PUBLISHED-TTL:PT1H
BEGIN:VTIMEZONE
TZID:Europe/Paris
BEGIN:DAYLIGHT
TZOFFSETFROM:+0100
TZOFFSETTO:+0200
TZNAME:CEST
DTSTART:20250330T010000
END:DAYLIGHT
BEGIN:STANDARD
TZOFFSETFROM:+0200
TZOFFSETTO:+0100
TZNAME:CET
DTSTART:20251026T010000
END:STANDARD
BEGIN:DAYLIGHT
TZOFFSETFROM:+0100
TZOFFSETTO:+0200
TZNAME:CEST
DTSTART:20260329T010000
END:DAYLIGHT
BEGIN:STANDARD
TZOFFSETFROM:+0200
TZOFFSETTO:+0100
TZNAME:CET
DTSTART:20261025T010000
END:STANDARD
BEGIN:DAYLIGHT
TZOFFSETFROM:+0100
TZOFFSETTO:+0200
TZNAME:CEST
DTSTART:20270328T010000
END:DAYLIGHT
BEGIN:STANDARD
TZOFFSETFROM:+0200
TZOFFSETTO:+0100
TZNAME:CET
DTSTART:20271031T010000
END:STANDARD
END:VTIMEZONE
BEGIN:VEVENT
DTSTART;TZID=Europe/Paris:20260220T190000
DTEND;TZID=Europe/Paris:20260220T233000
DTSTAMP:20260420T005804
CREATED:20260205T110805Z
LAST-MODIFIED:20260205T174235Z
UID:438-1771614000-1771630200@asteria-sh.ch
SUMMARY:Casinostamm
DESCRIPTION:Die Vitodurania! hat uns zu einem Pokerabend in ihrer Bude eingeladen. Wir freuen uns auf einen spannenden Abend.
URL:https://asteria-sh.ch/event/casinostamm/
LOCATION:Bude der Vitodurania!\, Marktgasse 13-15\, Winterthur
END:VEVENT
END:VCALENDAR