BEGIN:VCALENDAR
VERSION:2.0
PRODID:-//Asteria! - ECPv6.15.16//NONSGML v1.0//EN
CALSCALE:GREGORIAN
METHOD:PUBLISH
X-WR-CALNAME:Asteria!
X-ORIGINAL-URL:https://asteria-sh.ch
X-WR-CALDESC:Veranstaltungen für Asteria!
REFRESH-INTERVAL;VALUE=DURATION:PT1H
X-Robots-Tag:noindex
X-PUBLISHED-TTL:PT1H
BEGIN:VTIMEZONE
TZID:Europe/Paris
BEGIN:DAYLIGHT
TZOFFSETFROM:+0100
TZOFFSETTO:+0200
TZNAME:CEST
DTSTART:20250330T010000
END:DAYLIGHT
BEGIN:STANDARD
TZOFFSETFROM:+0200
TZOFFSETTO:+0100
TZNAME:CET
DTSTART:20251026T010000
END:STANDARD
BEGIN:DAYLIGHT
TZOFFSETFROM:+0100
TZOFFSETTO:+0200
TZNAME:CEST
DTSTART:20260329T010000
END:DAYLIGHT
BEGIN:STANDARD
TZOFFSETFROM:+0200
TZOFFSETTO:+0100
TZNAME:CET
DTSTART:20261025T010000
END:STANDARD
BEGIN:DAYLIGHT
TZOFFSETFROM:+0100
TZOFFSETTO:+0200
TZNAME:CEST
DTSTART:20270328T010000
END:DAYLIGHT
BEGIN:STANDARD
TZOFFSETFROM:+0200
TZOFFSETTO:+0100
TZNAME:CET
DTSTART:20271031T010000
END:STANDARD
END:VTIMEZONE
BEGIN:VEVENT
DTSTART;TZID=Europe/Paris:20260320T200000
DTEND;TZID=Europe/Paris:20260320T233000
DTSTAMP:20260419T233047
CREATED:20260205T171733Z
LAST-MODIFIED:20260205T171733Z
UID:453-1774036800-1774049400@asteria-sh.ch
SUMMARY:Cantenabend
DESCRIPTION:In engem Kreise läuten wir den bevorstehenden Frühlingsbeginn mit melodischen Canten ein.
URL:https://asteria-sh.ch/event/cantenabend/
LOCATION:Restaurant Zum Alten Schützenhaus\, Rietstrasse 1\, Schaffhausen\, Schaffhausen\, 8200\, Schweiz
END:VEVENT
END:VCALENDAR